BEGIN:VCALENDAR
VERSION:2.0
PRODID:https://github.com/derhansen/sf_event_mgt
METHOD:PUBLISH
BEGIN:VEVENT
UID:386-138@euerbach.de
CLASS: PUBLIC
SUMMARY:Gemeinderatssitzung 07.07.2026 (Euerbach)
DESCRIPTION:
DTSTAMP:20260318T125505Z
DTSTART:20260707T173000Z
DTEND:20260707T193000Z
END:VEVENT
END:VCALENDAR
