BEGIN:VCALENDAR
VERSION:2.0
PRODID:https://github.com/derhansen/sf_event_mgt
METHOD:PUBLISH
BEGIN:VEVENT
UID:383-138@euerbach.de
CLASS: PUBLIC
SUMMARY:Gemeinderatssitzung 12.05.2026 (Euerbach)
DESCRIPTION:
DTSTAMP:20260318T125205Z
DTSTART:20260512T173000Z
DTEND:20260512T193000Z
END:VEVENT
END:VCALENDAR
