BEGIN:VCALENDAR
VERSION:2.0
PRODID:https://github.com/derhansen/sf_event_mgt
METHOD:PUBLISH
BEGIN:VEVENT
UID:382-138@euerbach.de
CLASS: PUBLIC
SUMMARY:Gemeinderatssitzung 28.04.2026 (Euerbach)
DESCRIPTION:
DTSTAMP:20260318T125557Z
DTSTART:20260428T173000Z
DTEND:20260428T193000Z
END:VEVENT
END:VCALENDAR
