BEGIN:VCALENDAR
VERSION:2.0
PRODID:https://github.com/derhansen/sf_event_mgt
METHOD:PUBLISH
BEGIN:VEVENT
UID:381-138@euerbach.de
CLASS: PUBLIC
SUMMARY:Gemeinderatssitzung 14.04.2026 (Euerbach)
DESCRIPTION:
DTSTAMP:20260318T125614Z
DTSTART:20260414T173000Z
DTEND:20260414T193000Z
END:VEVENT
END:VCALENDAR
