BEGIN:VCALENDAR
VERSION:2.0
PRODID:https://github.com/derhansen/sf_event_mgt
METHOD:PUBLISH
BEGIN:VEVENT
UID:380-138@euerbach.de
CLASS: PUBLIC
SUMMARY:Gemeinderatssitzung 17.03.2026 (Euerbach)
DESCRIPTION:
DTSTAMP:20260318T125627Z
DTSTART:20260317T183000Z
DTEND:20260317T203000Z
END:VEVENT
END:VCALENDAR
