BEGIN:VCALENDAR
VERSION:2.0
PRODID:https://github.com/derhansen/sf_event_mgt
METHOD:PUBLISH
BEGIN:VEVENT
UID:379-138@euerbach.de
CLASS: PUBLIC
SUMMARY:Gemeinderatssitzung 03.03.2026 (Euerbach)
DESCRIPTION:
DTSTAMP:20260318T125639Z
DTSTART:20260303T183000Z
DTEND:20260303T203000Z
END:VEVENT
END:VCALENDAR
