BEGIN:VCALENDAR
VERSION:2.0
PRODID:https://github.com/derhansen/sf_event_mgt
METHOD:PUBLISH
BEGIN:VEVENT
UID:376-138@euerbach.de
CLASS: PUBLIC
SUMMARY:Gemeinderatssitzung 20.01.2026 (Euerbach)
DESCRIPTION:
DTSTAMP:20260318T125705Z
DTSTART:20260120T183000Z
DTEND:20260120T203000Z
END:VEVENT
END:VCALENDAR
