BEGIN:VCALENDAR
VERSION:2.0
PRODID:https://github.com/derhansen/sf_event_mgt
METHOD:PUBLISH
BEGIN:VEVENT
UID:36-138@euerbach.de
CLASS: PUBLIC
SUMMARY:Gemeinderatssitzung 10.12.2024 (Euerbach)
DESCRIPTION:
LOCATION:Rathaus Euerbach
DTSTAMP:20260318T125719Z
DTSTART:20241210T180000Z
END:VEVENT
END:VCALENDAR
