BEGIN:VCALENDAR
VERSION:2.0
PRODID:https://github.com/derhansen/sf_event_mgt
METHOD:PUBLISH
BEGIN:VEVENT
UID:35-138@euerbach.de
CLASS: PUBLIC
SUMMARY:Gemeinderatssitzung 26.11.2024 (Euerbach)
DESCRIPTION:
LOCATION:Rathaus Euerbach
DTSTAMP:20260318T125732Z
DTSTART:20241126T183000Z
END:VEVENT
END:VCALENDAR
