BEGIN:VCALENDAR
VERSION:2.0
PRODID:https://github.com/derhansen/sf_event_mgt
METHOD:PUBLISH
BEGIN:VEVENT
UID:34-138@euerbach.de
CLASS: PUBLIC
SUMMARY:Gemeinderatssitzung 12.11.2024 (Euerbach)
DESCRIPTION:
LOCATION:Rathaus Euerbach
DTSTAMP:20260318T125744Z
DTSTART:20241112T183000Z
END:VEVENT
END:VCALENDAR
