BEGIN:VCALENDAR
VERSION:2.0
PRODID:https://github.com/derhansen/sf_event_mgt
METHOD:PUBLISH
BEGIN:VEVENT
UID:32-138@euerbach.de
CLASS: PUBLIC
SUMMARY:Gemeinderatssitzung 17.09.2024 (Euerbach)
DESCRIPTION:
LOCATION:Rathaus Euerbach
DTSTAMP:20260318T125759Z
DTSTART:20240917T173000Z
END:VEVENT
END:VCALENDAR
