BEGIN:VCALENDAR
VERSION:2.0
PRODID:https://github.com/derhansen/sf_event_mgt
METHOD:PUBLISH
BEGIN:VEVENT
UID:225-138@euerbach.de
CLASS: PUBLIC
SUMMARY:Gemeinderatssitzung 09.12.2025 (Euerbach )
DESCRIPTION:
DTSTAMP:20260318T130040Z
DTSTART:20251209T180000Z
DTEND:20251209T203000Z
END:VEVENT
END:VCALENDAR
