BEGIN:VCALENDAR
VERSION:2.0
PRODID:https://github.com/derhansen/sf_event_mgt
METHOD:PUBLISH
BEGIN:VEVENT
UID:224-138@euerbach.de
CLASS: PUBLIC
SUMMARY:Gemeinderatssitzung 25.11.2025 (Euerbach )
DESCRIPTION:
DTSTAMP:20260318T130051Z
DTSTART:20251125T183000Z
DTEND:20251125T203000Z
END:VEVENT
END:VCALENDAR
