BEGIN:VCALENDAR
VERSION:2.0
PRODID:https://github.com/derhansen/sf_event_mgt
METHOD:PUBLISH
BEGIN:VEVENT
UID:222-138@euerbach.de
CLASS: PUBLIC
SUMMARY:Gemeinderatssitzung 11.11.2025 (Euerbach )
DESCRIPTION:
DTSTAMP:20260318T130101Z
DTSTART:20251111T183000Z
DTEND:20251111T203000Z
END:VEVENT
END:VCALENDAR
