BEGIN:VCALENDAR
VERSION:2.0
PRODID:https://github.com/derhansen/sf_event_mgt
METHOD:PUBLISH
BEGIN:VEVENT
UID:221-138@euerbach.de
CLASS: PUBLIC
SUMMARY:Gemeinderatssitzung 28.10.2025 (Euerbach )
DESCRIPTION:
DTSTAMP:20260318T130113Z
DTSTART:20251028T183000Z
DTEND:20251028T203000Z
END:VEVENT
END:VCALENDAR
