BEGIN:VCALENDAR
VERSION:2.0
PRODID:https://github.com/derhansen/sf_event_mgt
METHOD:PUBLISH
BEGIN:VEVENT
UID:215-138@euerbach.de
CLASS: PUBLIC
SUMMARY:Gemeinderatssitzung 24.06.2025 (Euerbach )
DESCRIPTION:
DTSTAMP:20260318T130212Z
DTSTART:20250624T173000Z
DTEND:20250624T193000Z
END:VEVENT
END:VCALENDAR
