BEGIN:VCALENDAR
VERSION:2.0
PRODID:https://github.com/derhansen/sf_event_mgt
METHOD:PUBLISH
BEGIN:VEVENT
UID:214-138@euerbach.de
CLASS: PUBLIC
SUMMARY:Gemeinderatssitzung 27.05.2025 (Euerbach )
DESCRIPTION:
DTSTAMP:20260318T130226Z
DTSTART:20250527T173000Z
DTEND:20250527T193000Z
END:VEVENT
END:VCALENDAR
