BEGIN:VCALENDAR
VERSION:2.0
PRODID:https://github.com/derhansen/sf_event_mgt
METHOD:PUBLISH
BEGIN:VEVENT
UID:212-138@euerbach.de
CLASS: PUBLIC
SUMMARY:Gemeinderatssitzung 29.04.2025 (Euerbach )
DESCRIPTION:
DTSTAMP:20260318T130246Z
DTSTART:20250429T173000Z
DTEND:20250429T193000Z
END:VEVENT
END:VCALENDAR
