BEGIN:VCALENDAR
VERSION:2.0
PRODID:https://github.com/derhansen/sf_event_mgt
METHOD:PUBLISH
BEGIN:VEVENT
UID:210-138@euerbach.de
CLASS: PUBLIC
SUMMARY:Gemeinderatssitzung 18.03.2025 (Euerbach )
DESCRIPTION:
DTSTAMP:20260318T130306Z
DTSTART:20250318T183000Z
DTEND:20250318T203000Z
END:VEVENT
END:VCALENDAR
