BEGIN:VCALENDAR
VERSION:2.0
PRODID:https://github.com/derhansen/sf_event_mgt
METHOD:PUBLISH
BEGIN:VEVENT
UID:209-138@euerbach.de
CLASS: PUBLIC
SUMMARY:Gemeinderatssitzung 18.02.2025 (Euerbach )
DESCRIPTION:
DTSTAMP:20260318T130316Z
DTSTART:20250218T183000Z
DTEND:20250218T203000Z
END:VEVENT
END:VCALENDAR
