BEGIN:VCALENDAR
VERSION:2.0
PRODID:https://github.com/derhansen/sf_event_mgt
METHOD:PUBLISH
BEGIN:VEVENT
UID:208-138@euerbach.de
CLASS: PUBLIC
SUMMARY:Gemeinderatssitzung 04.02.2025 (Euerbach )
DESCRIPTION:
DTSTAMP:20260318T130327Z
DTSTART:20250204T183000Z
DTEND:20250204T203000Z
END:VEVENT
END:VCALENDAR
