BEGIN:VCALENDAR
VERSION:2.0
PRODID:https://github.com/derhansen/sf_event_mgt
METHOD:PUBLISH
BEGIN:VEVENT
UID:207-138@euerbach.de
CLASS: PUBLIC
SUMMARY:Gemeinderatssitzung 21.01.2025 (Euerbach )
DESCRIPTION:
DTSTAMP:20260318T130337Z
DTSTART:20250121T183000Z
DTEND:20250121T203000Z
END:VEVENT
END:VCALENDAR
