BEGIN:VCALENDAR
VERSION:2.0
PRODID:https://github.com/derhansen/sf_event_mgt
METHOD:PUBLISH
BEGIN:VEVENT
UID:353-138@euerbach.de
CLASS: PUBLIC
SUMMARY:Gedenkfeiern zum Volkstrauertag
DESCRIPTION:
DTSTAMP:20250108T140559Z
DTSTART:20251115T230000Z
DTEND:20251115T230000Z
END:VEVENT
END:VCALENDAR
