BEGIN:VCALENDAR
VERSION:2.0
PRODID:https://github.com/derhansen/sf_event_mgt
METHOD:PUBLISH
BEGIN:VEVENT
UID:478-138@euerbach.de
CLASS: PUBLIC
SUMMARY:Flohmarkt in Euerbach (Euerbach)
DESCRIPTION:
LOCATION:Sporthalle Euerbach
DTSTAMP:20251125T122442Z
DTSTART:20260322T090000Z
DTEND:20260322T140000Z
END:VEVENT
END:VCALENDAR
