BEGIN:VCALENDAR
VERSION:2.0
PRODID:https://github.com/derhansen/sf_event_mgt
METHOD:PUBLISH
BEGIN:VEVENT
UID:301-138@euerbach.de
CLASS: PUBLIC
SUMMARY:Fischgrillen der Jugendfeuerwehr Sömmersdorf (Sömmersdorf)
DESCRIPTION:
LOCATION:Feuerwehrhaus Sömmersdorf
DTSTAMP:20250108T140559Z
DTSTART:20250418T090000Z
END:VEVENT
END:VCALENDAR
