BEGIN:VCALENDAR
VERSION:2.0
PRODID:https://github.com/derhansen/sf_event_mgt
METHOD:PUBLISH
BEGIN:VEVENT
UID:278-138@euerbach.de
CLASS: PUBLIC
SUMMARY:Festgottesdienst zur Konfirmation (Obbach)
DESCRIPTION:
LOCATION:Evang. Kirche Obbach
DTSTAMP:20250108T140559Z
DTSTART:20250518T073000Z
DTEND:20250518T083000Z
END:VEVENT
END:VCALENDAR
