BEGIN:VCALENDAR
VERSION:2.0
PRODID:https://github.com/derhansen/sf_event_mgt
METHOD:PUBLISH
BEGIN:VEVENT
UID:457-138@euerbach.de
CLASS: PUBLIC
SUMMARY:Festgottesdienst zum Konfirmation (Euerbach)
DESCRIPTION:
LOCATION:Evang. Kirche Euerbach
DTSTAMP:20251125T122442Z
DTSTART:20260509T220000Z
END:VEVENT
END:VCALENDAR
