BEGIN:VCALENDAR
VERSION:2.0
PRODID:https://github.com/derhansen/sf_event_mgt
METHOD:PUBLISH
BEGIN:VEVENT
UID:452-138@euerbach.de
CLASS: PUBLIC
SUMMARY:Feier der Osternacht mit AM zusammen mit Kirchengemeinde Obbach (Ob
 bach)
DESCRIPTION:
LOCATION:Evang. Kirche Obbach
DTSTAMP:20251125T122442Z
DTSTART:20260405T040000Z
DTEND:20260405T050000Z
END:VEVENT
END:VCALENDAR
