BEGIN:VCALENDAR
VERSION:2.0
PRODID:https://github.com/derhansen/sf_event_mgt
METHOD:PUBLISH
BEGIN:VEVENT
UID:285-138@euerbach.de
CLASS: PUBLIC
SUMMARY:Feier der Osternacht mit AM zusammen mit Kirchengemeinde Euerbach (
 Obbach)
DESCRIPTION:
LOCATION:Evang. Kirche Euerbach
DTSTAMP:20250108T140559Z
DTSTART:20250420T040000Z
DTEND:20250420T050000Z
END:VEVENT
END:VCALENDAR
