BEGIN:VCALENDAR
VERSION:2.0
PRODID:https://github.com/derhansen/sf_event_mgt
METHOD:PUBLISH
BEGIN:VEVENT
UID:425-138@euerbach.de
CLASS: PUBLIC
SUMMARY:Faschingsumzug mit anschließender Faschingsparty des SV Sömmersdorf
  (Sömmersdorf)
DESCRIPTION:
DTSTAMP:20251125T122442Z
DTSTART:20260207T123300Z
DTEND:20260208T000000Z
END:VEVENT
END:VCALENDAR
