BEGIN:VCALENDAR
VERSION:2.0
PRODID:https://github.com/derhansen/sf_event_mgt
METHOD:PUBLISH
BEGIN:VEVENT
UID:252-138@euerbach.de
CLASS: PUBLIC
SUMMARY:Faschingsumzug mit anschließendem Faschingstreiben des SV Sömmersdo
 rf (Sömmersdorf)
DESCRIPTION:
DTSTAMP:20250108T140559Z
DTSTART:20250222T123300Z
END:VEVENT
END:VCALENDAR
