BEGIN:VCALENDAR
VERSION:2.0
PRODID:https://github.com/derhansen/sf_event_mgt
METHOD:PUBLISH
BEGIN:VEVENT
UID:331-138@euerbach.de
CLASS: PUBLIC
SUMMARY:Faschingsumzug anschließend Kinderfasching, Gemeinde Euerbach/VfL E
 uerbach (Euerbach)
DESCRIPTION:
DTSTAMP:20250108T140559Z
DTSTART:20250302T123000Z
DTEND:20250302T225900Z
END:VEVENT
END:VCALENDAR
