BEGIN:VCALENDAR
VERSION:2.0
PRODID:https://github.com/derhansen/sf_event_mgt
METHOD:PUBLISH
BEGIN:VEVENT
UID:450-138@euerbach.de
CLASS: PUBLIC
SUMMARY:Familiengottesdienst und Sommerfest der evang. Kindertagesstätte Ob
 bach (Obbach)
DESCRIPTION:
LOCATION:Kindergarten Obbach
DTSTAMP:20251125T122442Z
DTSTART:20260614T090000Z
DTEND:20260614T160000Z
END:VEVENT
END:VCALENDAR
