BEGIN:VCALENDAR
VERSION:2.0
PRODID:https://github.com/derhansen/sf_event_mgt
METHOD:PUBLISH
BEGIN:VEVENT
UID:281-138@euerbach.de
CLASS: PUBLIC
SUMMARY:Familiengottesdienst und Sommerfest der Evang. Kindertagesstätte Ob
 bach (Obbach)
DESCRIPTION:
LOCATION:Kindergarten Obbach
DTSTAMP:20250108T140559Z
DTSTART:20250629T090000Z
DTEND:20250629T100000Z
END:VEVENT
END:VCALENDAR
