BEGIN:VCALENDAR
VERSION:2.0
PRODID:https://github.com/derhansen/sf_event_mgt
METHOD:PUBLISH
BEGIN:VEVENT
UID:447-138@euerbach.de
CLASS: PUBLIC
SUMMARY:Familiengottesdienst mit Segnung der Schulkinder der evang. Kirchen
 gemeinde Obbach (Obbach)
DESCRIPTION:
LOCATION:Evang. Kirche Obbach
DTSTAMP:20251125T122442Z
DTSTART:20260726T083000Z
DTEND:20260726T093000Z
END:VEVENT
END:VCALENDAR
