BEGIN:VCALENDAR
VERSION:2.0
PRODID:https://github.com/derhansen/sf_event_mgt
METHOD:PUBLISH
BEGIN:VEVENT
UID:277-138@euerbach.de
CLASS: PUBLIC
SUMMARY:Familien-Oster-Gottesdienst (Obbach)
DESCRIPTION:
LOCATION:Evang. Kirche Obbach
DTSTAMP:20250108T140559Z
DTSTART:20250417T083000Z
DTEND:20250417T093000Z
END:VEVENT
END:VCALENDAR
