BEGIN:VCALENDAR
VERSION:2.0
PRODID:https://github.com/derhansen/sf_event_mgt
METHOD:PUBLISH
BEGIN:VEVENT
UID:468-138@euerbach.de
CLASS: PUBLIC
SUMMARY:Familien-Oster-Gottesdienst der evang. Kirchengemeinde (Obbach)
DESCRIPTION:
LOCATION:Evang. Kirche Obbach
DTSTAMP:20251125T122442Z
DTSTART:20260406T084500Z
DTEND:20260406T094500Z
END:VEVENT
END:VCALENDAR
