BEGIN:VCALENDAR
VERSION:2.0
PRODID:https://github.com/derhansen/sf_event_mgt
METHOD:PUBLISH
BEGIN:VEVENT
UID:69-138@euerbach.de
CLASS: PUBLIC
SUMMARY:Fackelwanderung im Tal der Kelten - zur Weihnachtszeit (Obbach)
DESCRIPTION:
LOCATION:Reichthalscheune
DTSTAMP:20240425T125605Z
DTSTART:20241227T134500Z
DTEND:20241227T160000Z
END:VEVENT
END:VCALENDAR
