BEGIN:VCALENDAR
VERSION:2.0
PRODID:https://github.com/derhansen/sf_event_mgt
METHOD:PUBLISH
BEGIN:VEVENT
UID:519-138@euerbach.de
CLASS: PUBLIC
SUMMARY:Fackelwanderung Im Tal der Kelten - zur Weihnachtszeit (Obbach)
DESCRIPTION:
DTSTAMP:20251125T122442Z
DTSTART:20261227T134500Z
DTEND:20261227T160000Z
END:VEVENT
END:VCALENDAR
