BEGIN:VCALENDAR
VERSION:2.0
PRODID:https://github.com/derhansen/sf_event_mgt
METHOD:PUBLISH
BEGIN:VEVENT
UID:120-138@euerbach.de
CLASS: PUBLIC
SUMMARY:Erntedankfest - Familiengottesdienst (Obbach)
DESCRIPTION:
LOCATION:Evang. Kirche Obbach
DTSTAMP:20240425T125605Z
DTSTART:20241006T090000Z
END:VEVENT
END:VCALENDAR
