BEGIN:VCALENDAR
VERSION:2.0
PRODID:https://github.com/derhansen/sf_event_mgt
METHOD:PUBLISH
BEGIN:VEVENT
UID:330-138@euerbach.de
CLASS: PUBLIC
SUMMARY:Eisbärparty - Das Original, Dino's Masshoppers Euerbach (Euerbach)
DESCRIPTION:
DTSTAMP:20250108T140559Z
DTSTART:20250301T183000Z
END:VEVENT
END:VCALENDAR
