BEGIN:VCALENDAR
VERSION:2.0
PRODID:https://github.com/derhansen/sf_event_mgt
METHOD:PUBLISH
BEGIN:VEVENT
UID:402-138@euerbach.de
CLASS: PUBLIC
SUMMARY:Christbaumsammlung in Sömmersdorf (Sömmersdorf)
DESCRIPTION:
LOCATION:Sömmersdorf
DTSTAMP:20251125T122442Z
DTSTART:20260117T090000Z
DTEND:20260117T120000Z
END:VEVENT
END:VCALENDAR
