BEGIN:VCALENDAR
VERSION:2.0
PRODID:https://github.com/derhansen/sf_event_mgt
METHOD:PUBLISH
BEGIN:VEVENT
UID:397-138@euerbach.de
CLASS: PUBLIC
SUMMARY:Christbaumsammlung in Euerbach (Euerbach)
DESCRIPTION:
LOCATION:Euerbach
DTSTAMP:20251125T122442Z
DTSTART:20260110T090000Z
DTEND:20260110T120000Z
END:VEVENT
END:VCALENDAR
