BEGIN:VCALENDAR
VERSION:2.0
PRODID:https://github.com/derhansen/sf_event_mgt
METHOD:PUBLISH
BEGIN:VEVENT
UID:145-138@euerbach.de
CLASS: PUBLIC
SUMMARY:Buß- und Bettag Gottesdienst mit Beichte und Abendmahl (Euerbach)
DESCRIPTION:
LOCATION:Evang. Kirche Euerbach
DTSTAMP:20240425T125605Z
DTSTART:20241120T180000Z
END:VEVENT
END:VCALENDAR
