BEGIN:VCALENDAR
VERSION:2.0
PRODID:https://github.com/derhansen/sf_event_mgt
METHOD:PUBLISH
BEGIN:VEVENT
UID:37-138@euerbach.de
CLASS: PUBLIC
SUMMARY:Bürgerversammlung in Sömmersdorf (Sömmersdorf)
DESCRIPTION:
LOCATION:Waldschenke Sömmersdorf
DTSTAMP:20240425T125605Z
DTSTART:20241015T173000Z
END:VEVENT
END:VCALENDAR
