BEGIN:VCALENDAR
VERSION:2.0
PRODID:https://github.com/derhansen/sf_event_mgt
METHOD:PUBLISH
BEGIN:VEVENT
UID:40-138@euerbach.de
CLASS: PUBLIC
SUMMARY:Bürgerversammlung in Euerbach (Euerbach)
DESCRIPTION:
LOCATION:VfL Sportheim Euerbach
DTSTAMP:20240425T125605Z
DTSTART:20241017T173000Z
END:VEVENT
END:VCALENDAR
