BEGIN:VCALENDAR
VERSION:2.0
PRODID:https://github.com/derhansen/sf_event_mgt
METHOD:PUBLISH
BEGIN:VEVENT
UID:488-138@euerbach.de
CLASS: PUBLIC
SUMMARY:Blutspendetermin (Euerbach)
DESCRIPTION:
LOCATION:Grundschule Euerbach
DTSTAMP:20251125T122442Z
DTSTART:20260809T220000Z
END:VEVENT
END:VCALENDAR
