BEGIN:VCALENDAR
VERSION:2.0
PRODID:https://github.com/derhansen/sf_event_mgt
METHOD:PUBLISH
BEGIN:VEVENT
UID:315-138@euerbach.de
CLASS: PUBLIC
SUMMARY:Blutspendetermin (Euerbach)
DESCRIPTION:
LOCATION:Grundschule Euerbach
DTSTAMP:20250108T140559Z
DTSTART:20250216T230000Z
END:VEVENT
END:VCALENDAR
