BEGIN:VCALENDAR
VERSION:2.0
PRODID:https://github.com/derhansen/sf_event_mgt
METHOD:PUBLISH
BEGIN:VEVENT
UID:413-138@euerbach.de
CLASS: PUBLIC
SUMMARY:Blumenpflanzaktion des Obst- und Gartenbauvereins Euerbach (Euerbac
 h)
DESCRIPTION:
LOCATION:Bauhof Euerbach
DTSTAMP:20251125T122442Z
DTSTART:20260425T063000Z
DTEND:20260425T100000Z
END:VEVENT
END:VCALENDAR
