BEGIN:VCALENDAR
VERSION:2.0
PRODID:https://github.com/derhansen/sf_event_mgt
METHOD:PUBLISH
BEGIN:VEVENT
UID:241-138@euerbach.de
CLASS: PUBLIC
SUMMARY:Balkonblumenverkauf des Obst- und Gartenbauvereins Euerbach (Euerba
 ch)
DESCRIPTION:
LOCATION:Bauhof Euerbach
DTSTAMP:20250108T140559Z
DTSTART:20250503T063000Z
DTEND:20250503T103000Z
END:VEVENT
END:VCALENDAR
